BEGIN:VCALENDAR
VERSION:2.0
PRODID:-//Agenda - ECPv6.13.2//NONSGML v1.0//EN
CALSCALE:GREGORIAN
METHOD:PUBLISH
X-WR-CALNAME:Agenda
X-ORIGINAL-URL:https://agendainstitucional.chapingo.mx
X-WR-CALDESC:Events for Agenda
REFRESH-INTERVAL;VALUE=DURATION:PT1H
X-Robots-Tag:noindex
X-PUBLISHED-TTL:PT1H
BEGIN:VTIMEZONE
TZID:America/Chicago
BEGIN:DAYLIGHT
TZOFFSETFROM:-0600
TZOFFSETTO:-0500
TZNAME:CDT
DTSTART:20260308T080000
END:DAYLIGHT
BEGIN:STANDARD
TZOFFSETFROM:-0500
TZOFFSETTO:-0600
TZNAME:CST
DTSTART:20261101T070000
END:STANDARD
END:VTIMEZONE
BEGIN:VEVENT
DTSTART;TZID=America/Chicago:20260423T150000
DTEND;TZID=America/Chicago:20260423T170000
DTSTAMP:20260418T070852
CREATED:20260415T162723Z
LAST-MODIFIED:20260415T162726Z
UID:1127-1776956400-1776963600@agendainstitucional.chapingo.mx
SUMMARY:TALLER "SALVANDO EL SEMESTRE: TÉCNICAS DE ESTUDIO"
DESCRIPTION:Lugar: Sala usos múltiples de la UCAME
URL:https://agendainstitucional.chapingo.mx/agenda/taller-salvando-el-semestre-tecnicas-de-estudio/
LOCATION:SEDE CENTRAL\, Carr. Federal México-Texcoco Km 38.5\, Universidad Autonoma de Chapingo\, Texcoco\, Edo. México\, 56230\, México
ATTACH;FMTTYPE=image/jpeg:https://agendainstitucional.chapingo.mx/wp-content/uploads/2026/04/WhatsApp-Image-2026-04-13-at-10.48.18.jpeg
ORGANIZER;CN="Direcci%C3%B3n General Acad%C3%A9mica":MAILTO:diaca@chapingo.mx
END:VEVENT
BEGIN:VEVENT
DTSTART;TZID=America/Chicago:20260430T120000
DTEND;TZID=America/Chicago:20260430T130000
DTSTAMP:20260418T070852
CREATED:20260415T161945Z
LAST-MODIFIED:20260415T162057Z
UID:1121-1777550400-1777554000@agendainstitucional.chapingo.mx
SUMMARY:CONFERENCIA "EL IDIOMA ESPAÑOL COMO EXPRESIÓN DEL SOFT POWER MEXICANO EN CANADÁ"
DESCRIPTION:Lugar: Auditorio Emiliano Zapata
URL:https://agendainstitucional.chapingo.mx/agenda/conferencia-el-idioma-espanol-como-expresion-del-soft-power-mexicano-en-canada/
LOCATION:SEDE CENTRAL\, Carr. Federal México-Texcoco Km 38.5\, Universidad Autonoma de Chapingo\, Texcoco\, Edo. México\, 56230\, México
ATTACH;FMTTYPE=image/jpeg:https://agendainstitucional.chapingo.mx/wp-content/uploads/2026/04/671819158_973716798642260_2089899603873681769_n.jpg
END:VEVENT
BEGIN:VEVENT
DTSTART;TZID=America/Chicago:20260430T150000
DTEND;TZID=America/Chicago:20260430T170000
DTSTAMP:20260418T070852
CREATED:20260415T164133Z
LAST-MODIFIED:20260415T164136Z
UID:1129-1777561200-1777568400@agendainstitucional.chapingo.mx
SUMMARY:ACTIVIDAD NARANJA
DESCRIPTION:Lugar: UCAME
URL:https://agendainstitucional.chapingo.mx/agenda/actividad-naranja/
LOCATION:SEDE CENTRAL\, Carr. Federal México-Texcoco Km 38.5\, Universidad Autonoma de Chapingo\, Texcoco\, Edo. México\, 56230\, México
ATTACH;FMTTYPE=image/jpeg:https://agendainstitucional.chapingo.mx/wp-content/uploads/2026/04/WhatsApp-Image-2026-04-13-at-10.48.18.jpeg
ORGANIZER;CN="Direcci%C3%B3n General Acad%C3%A9mica":MAILTO:diaca@chapingo.mx
END:VEVENT
END:VCALENDAR